BEGIN:VCALENDAR
VERSION:2.0
PRODID:-//hacksw/handcal//NONSGML v1.0//EN
CALSCALE:GREGORIAN
BEGIN:VEVENT
UID:239
DTSTAMP:20260424T202728Z
DESCRIPTION:Richland Library St. Andrews\, 2916 Broad River Road\, Columbia\, SC 29210 (Brandon Lavar Byrd Meeting Room)
DTSTART:20260425T160000Z
DTEND:20260425T180000Z
LOCATION:
SUMMARY:Pin Meet Up! April 25\, 2026\, Columbia\, SC
URL;VALUE=URI:https://www.disneypinforum.com/events/pin-meet-up-april-25-2026-columbia-sc.239/
END:VEVENT
END:VCALENDAR